BEGIN:VCALENDAR
VERSION:2.0
PRODID:-//Department of Psychology - ECPv4.9.3.2//NONSGML v1.0//EN
CALSCALE:GREGORIAN
METHOD:PUBLISH
X-WR-CALNAME:Department of Psychology
X-ORIGINAL-URL:http://psych.wisc.edu
X-WR-CALDESC:Events for Department of Psychology
BEGIN:VEVENT
DTSTART;TZID=UTC+0:20240418T121500
DTEND;TZID=UTC+0:20240418T130000
DTSTAMP:20260423T111034
CREATED:20240328T002828Z
LAST-MODIFIED:20240328T002828Z
UID:10083-1713442500-1713445200@psych.wisc.edu
SUMMARY:Alumni Career Spotlight: Rehabilitation Psychology/Neuropsychology
DESCRIPTION:Brogden Psychology Building (Room Number TBD)\nRegister Here!\n \nHear from psych alum\, Shelby Bowser\, M.S.\, LPC\, who built a career path in rehabilitation psychology that has provided her with an incredibly diverse professional experience! \nTopics that will be addressed include\, but are not limited to: \n\nGap year experience\nClinical Rehabilitation Counseling M.S.\nLicensed Professional Counselor (LPC)\nOutpatient private practice\nInpatient consulting on brain injury unit\nNeuropsychological testing/psychometry\nWork with anxiety disorders\, mood disorders\, personality disorders\, dementia\, traumatic brain injuries\, cognitive and learning disabilities\, and more\n\nThis event is hosted by the Department of Psychology. \n
URL:http://psych.wisc.edu/event/alumni-career-spotlight-rehabilitation-psychology-neuropsychology/
LOCATION:Brogden Psychology Building\, 1202 W Johnson St\, Madison\, 53705\, United States
END:VEVENT
END:VCALENDAR