BEGIN:VCALENDAR
VERSION:2.0
PRODID:-//Department of Psychology - ECPv4.9.3.2//NONSGML v1.0//EN
CALSCALE:GREGORIAN
METHOD:PUBLISH
X-WR-CALNAME:Department of Psychology
X-ORIGINAL-URL:http://psych.wisc.edu
X-WR-CALDESC:Events for Department of Psychology
BEGIN:VEVENT
DTSTART;TZID=UTC+0:20240511T090000
DTEND;TZID=UTC+0:20240511T110000
DTSTAMP:20260421T222529
CREATED:20240401T152452Z
LAST-MODIFIED:20240401T152452Z
UID:10095-1715418000-1715425200@psych.wisc.edu
SUMMARY:Psychology Graduation Reception
DESCRIPTION:Congratulations to our students graduating December 2023\, May 2024\, and August 2024!  We’re grateful to have been part of your journey and look forward to celebrating your accomplishments! \nMore information and RSVP here. \n
URL:http://psych.wisc.edu/event/psychology-graduation-reception-2/
CATEGORIES:Departmental,Undergraduate
END:VEVENT
END:VCALENDAR