BEGIN:VCALENDAR
VERSION:2.0
PRODID:-//Department of Psychology - ECPv4.9.3.2//NONSGML v1.0//EN
CALSCALE:GREGORIAN
METHOD:PUBLISH
X-WR-CALNAME:Department of Psychology
X-ORIGINAL-URL:http://psych.wisc.edu
X-WR-CALDESC:Events for Department of Psychology
BEGIN:VEVENT
DTSTART;TZID=UTC+0:20240502T160000
DTEND;TZID=UTC+0:20240502T173000
DTSTAMP:20260421T205625
CREATED:20230906T161505Z
LAST-MODIFIED:20230906T205909Z
UID:9487-1714665600-1714671000@psych.wisc.edu
SUMMARY:Sharon M. Guten Colloquium Series - Mahesh Srinivasan
DESCRIPTION:Mahest Srinivasan\nUniversity of California\, Berkeley\nMay 2\, 2024 \n
URL:http://psych.wisc.edu/event/sharon-m-guten-colloquium-series-mahesh-srinivasan/
CATEGORIES:Colloquium Series
END:VEVENT
END:VCALENDAR