BEGIN:VCALENDAR
VERSION:2.0
PRODID:-//Department of Psychology - ECPv4.9.3.2//NONSGML v1.0//EN
CALSCALE:GREGORIAN
METHOD:PUBLISH
X-WR-CALNAME:Department of Psychology
X-ORIGINAL-URL:http://psych.wisc.edu
X-WR-CALDESC:Events for Department of Psychology
BEGIN:VEVENT
DTSTART;TZID=UTC+0:20250311T160000
DTEND;TZID=UTC+0:20250311T180000
DTSTAMP:20260425T121619
CREATED:20241213T143545Z
LAST-MODIFIED:20241213T143545Z
UID:10768-1741708800-1741716000@psych.wisc.edu
SUMMARY:Undergraduate Research Fair
DESCRIPTION:Wondering what it is like to be a Research Assistant (RA) in Psychology? Join us at the Undergraduate Research Fair! Students will learn about undergraduate research opportunities in the Psychology department by talking with representatives from various department research labs. \nTuesday\, March 11th\n4pm-6pm\n1st floor\, Brogden Psychology Building\nNo registration required; stop in anytime between 4pm-6pm. \n
URL:http://psych.wisc.edu/event/undergraduate-research-fair-2/
LOCATION:Brogden Psychology Building\, 1202 W Johnson St\, Madison\, 53705\, United States
CATEGORIES:Undergraduate
END:VEVENT
END:VCALENDAR